BEGIN:VCALENDAR
VERSION:2.0
PRODID:-//Bollywood Dreams Entertainment | Indian Wedding DJ Servies - ECPv6.15.19//NONSGML v1.0//EN
CALSCALE:GREGORIAN
METHOD:PUBLISH
X-WR-CALNAME:Bollywood Dreams Entertainment | Indian Wedding DJ Servies
X-ORIGINAL-URL:https://dreamsperfected.com
X-WR-CALDESC:Events for Bollywood Dreams Entertainment | Indian Wedding DJ Servies
REFRESH-INTERVAL;VALUE=DURATION:PT1H
X-Robots-Tag:noindex
X-PUBLISHED-TTL:PT1H
BEGIN:VTIMEZONE
TZID:America/Los_Angeles
BEGIN:DAYLIGHT
TZOFFSETFROM:-0800
TZOFFSETTO:-0700
TZNAME:PDT
DTSTART:20230312T100000
END:DAYLIGHT
BEGIN:STANDARD
TZOFFSETFROM:-0700
TZOFFSETTO:-0800
TZNAME:PST
DTSTART:20231105T090000
END:STANDARD
BEGIN:DAYLIGHT
TZOFFSETFROM:-0800
TZOFFSETTO:-0700
TZNAME:PDT
DTSTART:20240310T100000
END:DAYLIGHT
BEGIN:STANDARD
TZOFFSETFROM:-0700
TZOFFSETTO:-0800
TZNAME:PST
DTSTART:20241103T090000
END:STANDARD
BEGIN:DAYLIGHT
TZOFFSETFROM:-0800
TZOFFSETTO:-0700
TZNAME:PDT
DTSTART:20250309T100000
END:DAYLIGHT
BEGIN:STANDARD
TZOFFSETFROM:-0700
TZOFFSETTO:-0800
TZNAME:PST
DTSTART:20251102T090000
END:STANDARD
END:VTIMEZONE
BEGIN:VEVENT
DTSTART;TZID=America/Los_Angeles:20240316T220000
DTEND;TZID=America/Los_Angeles:20240317T020000
DTSTAMP:20260425T120415
CREATED:20240124T163142Z
LAST-MODIFIED:20240124T170226Z
UID:20878-1710626400-1710640800@dreamsperfected.com
SUMMARY:Neon HOLI Festival of Colors • Bollywood Glow Dance Party AZ • DJ PRASHANT
DESCRIPTION:Ready to say goodbye to Winter & Hello to spring? Come dressed to glow & join us at Glow Tempe\, AZ for a Desi Dance Party with DJ PRASHANT \n\nBuy Tickets on Eventbrite\n\nBuy Tickets\n\n\n\n\n\n\n\nWe’re celebrating India’s Festival of Colors to welcome spring 🌼 \nNEON 🎨 HOLI\nFor one night only\, GLOW\, Tempe will be transformed into a glow-in-the-dark paradise of vibrant colors and amazing music from across India and beyond. \nWear your favorite neon outfit to best experience our 14th Annual Springtime Party! \n🟢🟡🟣🔵 \nFirst time with us? Watch this recap video to get a feel for how much fun you are going to have at NEON Holi\n\n\n\n\n\n\n\n\n\nIt’s that time of the year again! 🌈 This party typically sells out several days in advance so grab your tickets now & don’t miss out on the happiest festival in Arizona. \n🎟️ Secure your tickets now! \n🟢 IMPORTANT\nCome dressed to glow and get adorned with Neon face paint! 🎨 \n✅ We’ll have blacklights all around the venue ⚡️ \n✅ Tickets include Glow In The Dark Accessories & Party Favors while supplies last \n✅ Stay tuned for Holi Special Performance Announcements! \n✅ No refunds\, song requests\, or fights. Only drink\, dance\, and good vibes. 🤟🏽 \n\n\n\n\n\n\n\n\n\n\n\n\n\n\n🟡 EVENT DETAILS\n\nSaturday\, March 16\, 2024\nPunjabi\, Bollywood\, South Indian & Desi Music by DJ Prashant\nParty from 10 PM to 2 AM\nImmersive LIVE Video DJ Set\n21+ welcome with official ID required\nA night curated by DJ Prashant\nAll ticket sales are final\n\n🟢 VENUE\nGLOW TEMPE\n414 S Mill Ave. #215\, Tempe\, AZ 85281 \n\n\n\n\n🟣 YOUR DJ & HOST\n\n\n\n\n\n\n\n\n\nPRASHANT:\nPrashant is an ex-Intel engineer turned DJ\, choreographer\, singer\, and community organizer in Portland\, Oregon. His personality and charisma instantly strike a chord with audiences of any age or background. \nHe is known for an enthralling DJ set with interactive dance lessons and performances seamlessly woven into an irresistible blend of the world’s greatest dance music. His agenda is simple – bring community and cultures together to create connections on the dance floor\, and get you dancing longer\, and harder than you ever thought possible! \n▶︎ @dreamprashant \n▶︎ TEDx Talk\, The Story of DJ Prashant\, New Music\, and Dance Videos at https://linktr.ee/dreamprashant \n\n\n\n\n✅ Check out incredible past party photos!✨\n\nThis party is brought to you by @jaihodanceparty – The most joyful Bollywood party experience spanning 8+ cities\, hosted by the iconic DJ Prashant since 2010 alongside culture bearers & talented artists. \n▶︎ Follow @jaihodanceparty and @dreamprashant for event photos\, videos\, DJ Prashant’s music\, and updates so you don’t miss upcoming great events such as this one. 🫶🏽 \n\n\n\n\n\n\n\n\n\n🟢 TERMS & CONDITIONS\n\nPhotos and videos captured during this event will be shared on our social media platforms & may be used for promoting events such as this one\nYou may receive an email with party photos and will be added to our mailing list\nBollywood Dreams reserves rights to use media captured at the event anywhere without seeking prior permission\nWe are not liable or responsible for any injury or theft during or after the event\nNo refunds or chargebacks\n\n\n\n\n\n\n\n\n\n\n\n\n\n\n\n\n\n\n\n\n\n\n\n\n\n\n\n\n\n\n\n\n\n\n\n\n\n\n\n\n\n\n\n\n\n🟡 LAND ACKNOWLEDGEMENT\nWe at Bollywood Dreams seek to practice deep regard and respect for the Indigenous Peoples on whose lands we have the opportunity to live\, work\, and play. \nWe acknowledge that Jai Ho! Dance Party in Arizona takes place at the homeland of the O’Odham and Piipaash peoples and their ancestors. \n🔵 HOSTING A PRIVATE EVENT?\nContact us through our website if you want to throw a memorable shindig! http://dreamsperfected.com \n\n\n\n\n\n\n\n\n\n\n\n\n\n\n\n\n\n\n\nFAQs:\nAre there ID requirements or an age limit to enter the event? \nStrictly 21+\, please bring state issued ID or passport. \nWhat are my transport/parking options for getting to the event? \nPlenty of street parking available. \nAre tickets refundable? \nNo refunds are available\, and all ticket sales are final.
URL:https://dreamsperfected.com/event/neon-holi-festival-of-colors-bollywood-glow-dance-party-az-dj-prashant/
LOCATION:Glow Tempe\, 414 S Mill Ave #215\, Tempe\, AZ\, 85281\, United States
CATEGORIES:Arizona - Jai Ho! Dance Party,Dance Party
ATTACH;FMTTYPE=image/jpeg:https://dreamsperfected.com/wp-content/uploads/2024/01/2024-03-16-AZ-2x1Neon-Holi.jpg
END:VEVENT
END:VCALENDAR