BEGIN:VCALENDAR
VERSION:2.0
PRODID:-//Bollywood Dreams Entertainment | Indian Wedding DJ Servies - ECPv6.15.19//NONSGML v1.0//EN
CALSCALE:GREGORIAN
METHOD:PUBLISH
X-ORIGINAL-URL:https://dreamsperfected.com
X-WR-CALDESC:Events for Bollywood Dreams Entertainment | Indian Wedding DJ Servies
REFRESH-INTERVAL;VALUE=DURATION:PT1H
X-Robots-Tag:noindex
X-PUBLISHED-TTL:PT1H
BEGIN:VTIMEZONE
TZID:America/Los_Angeles
BEGIN:DAYLIGHT
TZOFFSETFROM:-0800
TZOFFSETTO:-0700
TZNAME:PDT
DTSTART:20250309T100000
END:DAYLIGHT
BEGIN:STANDARD
TZOFFSETFROM:-0700
TZOFFSETTO:-0800
TZNAME:PST
DTSTART:20251102T090000
END:STANDARD
BEGIN:DAYLIGHT
TZOFFSETFROM:-0800
TZOFFSETTO:-0700
TZNAME:PDT
DTSTART:20260308T100000
END:DAYLIGHT
BEGIN:STANDARD
TZOFFSETFROM:-0700
TZOFFSETTO:-0800
TZNAME:PST
DTSTART:20261101T090000
END:STANDARD
BEGIN:DAYLIGHT
TZOFFSETFROM:-0800
TZOFFSETTO:-0700
TZNAME:PDT
DTSTART:20270314T100000
END:DAYLIGHT
BEGIN:STANDARD
TZOFFSETFROM:-0700
TZOFFSETTO:-0800
TZNAME:PST
DTSTART:20271107T090000
END:STANDARD
END:VTIMEZONE
BEGIN:VEVENT
DTSTART;TZID=America/Los_Angeles:20260124T220000
DTEND;TZID=America/Los_Angeles:20260125T020000
DTSTAMP:20260423T123709
CREATED:20251222T104910Z
LAST-MODIFIED:20251231T095927Z
UID:21549-1769292000-1769306400@dreamsperfected.com
SUMMARY:SWEET 16: Jai Ho! Dance Party Anniversary | DJ Prashant • JazzBones Tacoma
DESCRIPTION:Buy Tickets on Eventbrite\n\nBuy Tickets\n\n\n\n\n\nJai Ho! Dance Party turns 16! Join DJ Prashant for Tacoma’s FIRST Bollywood Party — high energy dance music\, birthday cake\, & non-stop fun\n\n\n\nFor the FIRST time DJ Prashant is bringing Jai Ho! Dance Party to Tacoma. \nExperience the energy of his exlusive mashups and remixes\, dance anthems\, and beats that bring people together on the dance floor. \nThe hottest Bollywood\, Punjabi\, South Indian\, and more—all night long. Whether you’re a longtime fan or new to the scene\, you don’t want to miss this! \nCome early for a dance lesson from 9:30-10PM\, stay til the end for the birthday cake! \n\n\n\n\n\n\n\n\n\n\n\n\n\n\n\n\n\n\n▶︎ EVENT DETAILS\n📅 Saturday\, Jan 24\, 2026\n🕙 Party from 9 PM – 1:45 \n🕺🏼Dance lesson from 9:30-10PM\n🎧 Music by DJ Prashant\n🔞 21+ welcome (official ID required)\n📸 Professional photography & videography throughout the night\n💃 Dress to impress—like it’s YOUR Sweet 16! \n\n\n\n\n📍 VENUE\nJazzbones\n2803 6th Ave\, Tacoma\, WA 98406\, United States \n\n\n\n\n▶︎ YOUR DJ & CURATOR\n\n\n\n\n\n\n\n\n\n\n\nPRASHANT:\nPrashant is an ex-Intel engineer turned DJ\, choreographer\, singer\, and community organizer in Portland\, Oregon. His personality and charisma instantly strike a chord with audiences of any age or background. \nHe is known for an enthralling all VIDEO DJ set with interactive dance lessons and performances seamlessly woven into an irresistible blend of the world’s greatest dance music. His agenda is simple – bring community and cultures together to create connections on the dance floor\, and get you dancing longer\, and harder than you ever thought possible! \n➳ @dreamprashant \n➳ TEDx Talk\, The Story of DJ Prashant\, New Music\, and Dance Videos at https://linktr.ee/dreamprashant \n\n\n\n\n\n\n\n\n\n\n\n📸 WHAT DO OUR PARTIES LOOK LIKE? Check it out!\nScroll down or Click Here for more party photos! \n\n\n\n\n\n\n\n\n\n\n\n\n\n\n\n\n\n\n\n\n\n\n\n\n\n🟢 TERMS & CONDITIONS\n\nBy attending the event you consent to appearing in photos and videos captured during the event that will be shared on our social media platforms & may be used for promoting events such as this one\nYou may receive an email with party photos and will be added to our mailing list\nWe are not liable or responsible for any injury or theft during or after the event\nNo refunds or chargebacks\n\n\n\n\n\n\n\n\n\n\n\n\n\n\n\n\n\n\n\n☾ ABOUT JAI HO! DANCE PARTY\nThe most joyful dance party experience across the U.S. since 2010! \nFacebook Page: http://facebook.com/jaihodanceparty \nInstagram Page: http://instagram.com/jaihodanceparty \nYoutube: http://youtube.com/jaihoparty \nGet transported to an experience that is akin to being in a Bollywood musical complete with interactive dance lessons\, performances & non-stop hard-hitting beats from the east. Founded in 2010 by Prashant\, an immigrant turned DJ\, & like-minded friends\, Jai Ho! is a celebration of Indian music & dance like no other. \n\n\n\n\n\n\n\n\n\n\n\n\n\n\n\n\n\n\n☾ GUIDELINES AT EVERY JAI HO!\nCreating a safe & celebratory space is our priority at every event we host. \nWe would love for you to be an accomplice of ours by greeting & treating everyone you meet like you would like to be treated\, with equality\, mutual respect\, and a big smile. We know this does not apply to you because you are awesome but for the other people to whom this may be relevant\, we have zero tolerance for bigotry\, racist remarks\, and generally reckless behavior. \nOver the course of the night\, Punjabi\, Bollywood\, South Indian songs\, and music from across South Asia (new & old) will make their way into our DJs playlist. So contribute positively\, uplift everyone around you\, tip your bartenders well\, and enjoy the music being played. \n☾ PHOTOS & VIDEOS DURING THE EVENT\nBy purchasing tickets to our events\, you acknowledge that there might be photographers and videographers and that these photos and videos could be used for promotional purposes on our platforms. \n\n\n\n\n\n\n\n\n\n\n\n\n\n\n\n\n\n\n❤️ HOSTING A PRIVATE EVENT?\nWhen not hosting my own dance nights\, I love DJ’ing for weddings\, private and corporate events. Contact me through my website http://dreamsperfected.com if you want to work with me to throw a memorable shindig!
URL:https://dreamsperfected.com/event/sweet-16-jai-ho-dance-party-16th-anniversary/
LOCATION:Jazzbones
CATEGORIES:Dance Party,Seattle – Jai Ho! Dance Party
END:VEVENT
END:VCALENDAR