BEGIN:VCALENDAR
VERSION:2.0
PRODID:-//Bollywood Dreams Entertainment | Indian Wedding DJ Servies - ECPv6.15.19//NONSGML v1.0//EN
CALSCALE:GREGORIAN
METHOD:PUBLISH
X-WR-CALNAME:Bollywood Dreams Entertainment | Indian Wedding DJ Servies
X-ORIGINAL-URL:https://dreamsperfected.com
X-WR-CALDESC:Events for Bollywood Dreams Entertainment | Indian Wedding DJ Servies
REFRESH-INTERVAL;VALUE=DURATION:PT1H
X-Robots-Tag:noindex
X-PUBLISHED-TTL:PT1H
BEGIN:VTIMEZONE
TZID:America/Los_Angeles
BEGIN:DAYLIGHT
TZOFFSETFROM:-0800
TZOFFSETTO:-0700
TZNAME:PDT
DTSTART:20240310T100000
END:DAYLIGHT
BEGIN:STANDARD
TZOFFSETFROM:-0700
TZOFFSETTO:-0800
TZNAME:PST
DTSTART:20241103T090000
END:STANDARD
BEGIN:DAYLIGHT
TZOFFSETFROM:-0800
TZOFFSETTO:-0700
TZNAME:PDT
DTSTART:20250309T100000
END:DAYLIGHT
BEGIN:STANDARD
TZOFFSETFROM:-0700
TZOFFSETTO:-0800
TZNAME:PST
DTSTART:20251102T090000
END:STANDARD
BEGIN:DAYLIGHT
TZOFFSETFROM:-0800
TZOFFSETTO:-0700
TZNAME:PDT
DTSTART:20260308T100000
END:DAYLIGHT
BEGIN:STANDARD
TZOFFSETFROM:-0700
TZOFFSETTO:-0800
TZNAME:PST
DTSTART:20261101T090000
END:STANDARD
END:VTIMEZONE
BEGIN:VEVENT
DTSTART;TZID=America/Los_Angeles:20251219T210000
DTEND;TZID=America/Los_Angeles:20251220T020000
DTSTAMP:20260423T141706
CREATED:20251126T083530Z
LAST-MODIFIED:20251126T083530Z
UID:21527-1766178000-1766196000@dreamsperfected.com
SUMMARY:DESI RAVE – Bollywood GLOW Party – DJ Prashant & DJ Anjna | San Diego
DESCRIPTION:Casablanca’s going wild! Desi Rave hits San Diego with neon lights\, Bollywood x EDM Remix\, and DJ Prashant & DJ Anjna. Dec 19—don’t miss it!\n\n\n\nSan Diego\, get ready—Desi Rave lights up Casablanca Lounge for one wild Bollywood x EDM GLOW takeover!\nDJ Prashant and special guest DJ Anjna are teaming up to deliver an unforgettable night of neon energy\, non-stop dancing\, and electrifying Desi-EDM mashups. \n\nBuy Tickets on Eventbrite\n\nBuy Tickets\n\n\n\n\n\n\n\n\n\n\n\n\n\n\n💥 𝗗𝗘𝗦𝗜 𝗥𝗔𝗩𝗘 𝗛𝗜𝗧𝗦 𝗦𝗔𝗡 𝗗𝗜𝗘𝗚𝗢! 💥\nFor the first time ever\, the South Asian party phenomenon lands at Casablanca Lounge\, bringing Bollywood hits\, bass-boosted EDM\, and pure party magic.\n🎧 DJ Prashant is back—mixing his signature blends of Desi beats\, warehouse anthems\, and high-voltage remixes.\n✨ Joining the booth: DJ Anjna—lighting up the night with her unique sound and energy! \n👗 Dress in NEON or WHITE and GLOW with us!\nWhether you’re coming with friends or flying solo\, Desi Rave is all about:\n– Wild party energy\n– Bollywood x EDM mashups\n– New friends and memories under neon lights \n\n\n\n\n\n\n\n\n\n\n\n▶︎ EVENT DETAILS\n🗓️ Friday\, December 19\, 2025\n⏰ 9:00 PM – 2:00 AM\n📍 Casablanca Lounge\, San Diego\, CA\n🔞 21+ Only | Official ID required\n📷 Professional photography & videography all night\n📍 VENUE\nCasablanca Lounge\n836 Fifth Ave\, San Diego\, CA 92101\, United States \n\n\n\n\n\n\n\n\n\n\n\n▶︎ YOUR DJ & CURATOR\n\n\n\n\n\n\n\n\n\n\n\nPRASHANT:\nPrashant is an ex-Intel engineer turned DJ\, choreographer\, singer\, and community organizer in Portland\, Oregon. His personality and charisma instantly strike a chord with audiences of any age or background. \nHe is known for an enthralling all VIDEO DJ set with interactive dance lessons and performances seamlessly woven into an irresistible blend of the world’s greatest dance music. His agenda is simple – bring community and cultures together to create connections on the dance floor\, and get you dancing longer\, and harder than you ever thought possible! \n➳ @dreamprashant \n➳ TEDx Talk\, The Story of DJ Prashant\, New Music\, and Dance Videos at https://linktr.ee/dreamprashant \n\n\n\n\n\n\n\n\n\n\n\nDJ ANJNA\nSan Diego’s first female Bollywood DJ\, Anjna is known for bringing vibrant energy and cultural pride to every set. With her unique ability to blend Bollywood\, Punjabi\, South Indian\, and global dance hits\, she transforms any dance floor into a celebration of joy and togetherness. Her magnetic presence behind the decks and passion for connecting with the crowd ensure that every performance is as unforgettable as the music she plays. \n👉@djanjna \n\n\n\n\n\n\n\n\n\n\n\n🟢 TERMS & CONDITIONS\n\nBy attending the event you consent to appearing in photos and videos captured during the event that will be shared on our social media platforms & may be used for promoting events such as this one\nYou may receive an email with party photos and will be added to our mailing list\nWe are not liable or responsible for any injury or theft during or after the event\nNo refunds or chargebacks\n\n\n\n\n\n\n\n\n\n\n\n\n  \n📸 WHAT DO OUR PARTIES LOOK LIKE? Check it out!\nScroll down or Click Here for more party photos! \n\n\n\n\n\n\n\n\n\n\n\n\n\n\n\n\n\n\n\n\n\n\n\n\n\n☾ ABOUT JAI HO! DANCE PARTY\nThe most joyful dance party experience across the U.S. since 2010! \nFacebook Page: http://facebook.com/jaihodanceparty \nInstagram Page: http://instagram.com/jaihodanceparty \nYoutube: http://youtube.com/jaihoparty \nGet transported to an experience that is akin to being in a Bollywood musical complete with interactive dance lessons\, performances & non-stop hard-hitting beats from the east. Founded in 2010 by Prashant\, an immigrant turned DJ\, & like-minded friends\, Jai Ho! is a celebration of Indian music & dance like no other. \n\n\n\n\n\n\n\n\n\n\n\n\n\n\n\n\n\n\n☾ GUIDELINES AT EVERY JAI HO!\nCreating a safe & celebratory space is our priority at every event we host. \nWe would love for you to be an accomplice of ours by greeting & treating everyone you meet like you would like to be treated\, with equality\, mutual respect\, and a big smile. We know this does not apply to you because you are awesome but for the other people to whom this may be relevant\, we have zero tolerance for bigotry\, racist remarks\, and generally reckless behavior. \nOver the course of the night\, Punjabi\, Bollywood\, South Indian songs\, and music from across South Asia (new & old) will make their way into our DJs playlist. So contribute positively\, uplift everyone around you\, tip your bartenders well\, and enjoy the music being played. \n  \n☾ PHOTOS & VIDEOS DURING THE EVENT\nBy purchasing tickets to our events\, you acknowledge that there might be photographers and videographers and that these photos and videos could be used for promotional purposes on our platforms. \n\n\n\n\n\n\n\n\n\n\n\n\n\n\n\n\n\n\n\n\n\n\n\n\n\n❤️ HOSTING A PRIVATE EVENT?\nWhen not hosting my own dance nights\, I love DJ’ing for weddings\, private and corporate events. Contact me through my website http://dreamsperfected.com if you want to work with me to throw a memorable shindig!
URL:https://dreamsperfected.com/event/bollywood-party-in-san-diego/
LOCATION:Casablanca Lounge 836 Fifth Ave\, San Diego\, CA 92101\, Casablanca Lounge 836 Fifth Ave\, San Diego\, CA 92101\, San Diego
CATEGORIES:Dance Party,San Diego – Jai Ho! Dance Party
END:VEVENT
BEGIN:VEVENT
DTSTART;TZID=America/Los_Angeles:20251220T210000
DTEND;TZID=America/Los_Angeles:20251221T020000
DTSTAMP:20260423T141706
CREATED:20251125T064248Z
LAST-MODIFIED:20251125T070908Z
UID:21516-1766264400-1766282400@dreamsperfected.com
SUMMARY:DESI RAVE - Bollywood GLOW Party - DJ Prashant | Portland
DESCRIPTION:Jai Ho! Dance Party presents DESI RAVE—Portland’s ultimate fusion of DESI beats and Electronic Dance Music under one roof at The Den!\n\n\n\nExpect glow-in-the-dark vibes and a musical wonderland. Wear NEON Colors to glow and light up the dance floor! \n\nBuy Tickets on Eventbrite\n\nBuy Tickets\n\n\n\n\n\n\n\n\n\n\n\n\n\nDJ Prashant will take you on a musical journey across India\, seamlessly blending Afrohouse\, Techno & Indian infusued EDM to keep you dancing all night long. \nWhether you’re coming to party with friends or meet new ones\, DESI RAVE is the perfect way to get into the Holiday spirit. \nWHAT IS JAI HO! DANCE PARTY?\nIt’s a dance party centered on creating community\, showcasing culture\, and connecting people through music and dance. Everyone is welcome! \n\n\n\n\n\n\n\n\n\n\n\n▶︎ EVENT DETAILS\n\nSaturday\, December 20\, 2025\nParty from 9 PM to 2 AM\nMusic by DJ Prashant\n21+ Welcome to attend – official ID required\nProfessional Photography & Videography\nDress to GLOW ✨\n\n📍 VENUE \nThe Den\n116 SE Yamhill St\, Portland\, OR 97217 \n\n\n\n\n\n\n\n\n\n\n\n▶︎ YOUR DJ & CURATOR\n\n\n\n\n\n\n\n\n\n\n\nPRASHANT:\nPrashant is an ex-Intel engineer turned DJ\, choreographer\, singer\, and community organizer in Portland\, Oregon. His personality and charisma instantly strike a chord with audiences of any age or background. \nHe is known for an enthralling all VIDEO DJ set with interactive dance lessons and performances seamlessly woven into an irresistible blend of the world’s greatest dance music. His agenda is simple – bring community and cultures together to create connections on the dance floor\, and get you dancing longer\, and harder than you ever thought possible! \n➳ @dreamprashant \n➳ TEDx Talk\, The Story of DJ Prashant\, New Music\, and Dance Videos at https://linktr.ee/dreamprashant \n\n\n\n\n\n\n\n\n\n\n\n🟢 TERMS & CONDITIONS\n\nBy attending the event you consent to appearing in photos and videos captured during the event that will be shared on our social media platforms & may be used for promoting events such as this one\nYou may receive an email with party photos and will be added to our mailing list\nWe are not liable or responsible for any injury or theft during or after the event\nNo refunds or chargebacks\n\n\n\n\n\n\n\n\n\n\n\n\n  \n📸 WHAT DO OUR PARTIES LOOK LIKE? Check it out!\nScroll down or Click Here for more party photos! \n\n\n\n\n\n\n\n\n\n\n\n\n\n\n\n\n\n\n\n\n\n\n\n\n\n☾ ABOUT JAI HO! DANCE PARTY\nThe most joyful dance party experience across the U.S. since 2010! \nFacebook Page: http://facebook.com/jaihodanceparty \nInstagram Page: http://instagram.com/jaihodanceparty \nYoutube: http://youtube.com/jaihoparty \nGet transported to an experience that is akin to being in a Bollywood musical complete with interactive dance lessons\, performances & non-stop hard-hitting beats from the east. Founded in 2010 by Prashant\, an immigrant turned DJ\, & like-minded friends\, Jai Ho! is a celebration of Indian music & dance like no other. \n\n\n\n\n\n\n\n\n\n\n\n\n\n\n\n\n\n\n☾ GUIDELINES AT EVERY JAI HO!\nCreating a safe & celebratory space is our priority at every event we host. \nWe would love for you to be an accomplice of ours by greeting & treating everyone you meet like you would like to be treated\, with equality\, mutual respect\, and a big smile. We know this does not apply to you because you are awesome but for the other people to whom this may be relevant\, we have zero tolerance for bigotry\, racist remarks\, and generally reckless behavior. \nOver the course of the night\, Punjabi\, Bollywood\, South Indian songs\, and music from across South Asia (new & old) will make their way into our DJs playlist. So contribute positively\, uplift everyone around you\, tip your bartenders well\, and enjoy the music being played. \n  \n☾ PHOTOS & VIDEOS DURING THE EVENT\nBy purchasing tickets to our events\, you acknowledge that there might be photographers and videographers and that these photos and videos could be used for promotional purposes on our platforms. \n\n\n\n\n\n\n\n\n\n\n\n\n\n\n\n\n\n\n❤️ HOSTING A PRIVATE EVENT?\nWhen not hosting my own dance nights\, I love DJ’ing for weddings\, private and corporate events. Contact me through my website http://dreamsperfected.com if you want to work with me to throw a memorable shindig!
URL:https://dreamsperfected.com/event/bollywood-glow-party-portland/
LOCATION:The Den Portland\, 116 SE Yamhill St\, Portland\, OR\, 97217\, United States
CATEGORIES:Dance Party,Portland – Jai Ho! Dance Party
END:VEVENT
BEGIN:VEVENT
DTSTART;TZID=America/Los_Angeles:20251227T210000
DTEND;TZID=America/Los_Angeles:20251228T020000
DTSTAMP:20260423T141706
CREATED:20251125T070618Z
LAST-MODIFIED:20251125T070618Z
UID:21519-1766869200-1766887200@dreamsperfected.com
SUMMARY:DESI RAVE - Bollywood GLOW Party - DJ Prashant | Denver
DESCRIPTION:Denver’s favorite Desi Rave is Back! EDM-infused Bollywood\, neon GLOW\, DJ Prashant\, and unstoppable party beats—Dec 27 at The Dahlia!\n\n\n\nDJ Prashant Returns to Denver with Desi Rave—Experience the Neon Night at The Dahlia \n\nBuy Tickets on Eventbrite\n\nBuy Tickets\n\n\n\n\n\n\n\n\n\n\n\n\n\nJai Ho! Dance Party presents DESI RAVE—Denver’s electrifying Bollywood GLOW Party! Experience the ultimate fusion of Desi beats and EDM at The Dahlia. DJ Prashant leads the night with high-voltage remixes\, immersive neon vibes\, and nonstop dancing. Wear NEON colors and dive into Denver’s most energetic Desi party! \nWHAT IS JAI HO! DANCE PARTY?\nIt’s a dance party centered on creating community\, showcasing culture\, and connecting people through music and dance. Everyone is welcome! \n\n\n\n\n\n\n\n\n\n\n\n▶︎ EVENT DETAILS\n\nSaturday\, December 27\, 2025\nParty from 9 PM to 1:30 AM\nMusic by DJ Prashant\n21+ Welcome to attend – official ID required\nProfessional Photography & Videography\nDress to GLOW ✨\n\n📍 VENUE \nThe Dahlia Denver\n119 S Broadway\, Denver\, CO 80223 \n\n\n\n\n\n\n\n\n\n\n\n▶︎ YOUR DJ & CURATOR\n\n\n\n\n\n\n\n\n\n\n\nPRASHANT:\nPrashant is an ex-Intel engineer turned DJ\, choreographer\, singer\, and community organizer in Portland\, Oregon. His personality and charisma instantly strike a chord with audiences of any age or background. \nHe is known for an enthralling all VIDEO DJ set with interactive dance lessons and performances seamlessly woven into an irresistible blend of the world’s greatest dance music. His agenda is simple – bring community and cultures together to create connections on the dance floor\, and get you dancing longer\, and harder than you ever thought possible! \n➳ @dreamprashant \n➳ TEDx Talk\, The Story of DJ Prashant\, New Music\, and Dance Videos at https://linktr.ee/dreamprashant \n\n\n\n\n\n\n\n\n\n\n\n🟢 TERMS & CONDITIONS\n\nBy attending the event you consent to appearing in photos and videos captured during the event that will be shared on our social media platforms & may be used for promoting events such as this one\nYou may receive an email with party photos and will be added to our mailing list\nWe are not liable or responsible for any injury or theft during or after the event\nNo refunds or chargebacks\n\n\n\n\n\n\n\n\n\n\n\n\n  \n📸 WHAT DO OUR PARTIES LOOK LIKE? Check it out!\nScroll down or Click Here for more party photos! \n\n\n\n\n\n\n\n\n\n\n\n\n\n\n\n\n\n\n\n\n\n\n\n\n\n☾ ABOUT JAI HO! DANCE PARTY\nThe most joyful dance party experience across the U.S. since 2010! \nFacebook Page: http://facebook.com/jaihodanceparty \nInstagram Page: http://instagram.com/jaihodanceparty \nYoutube: http://youtube.com/jaihoparty \nGet transported to an experience that is akin to being in a Bollywood musical complete with interactive dance lessons\, performances & non-stop hard-hitting beats from the east. Founded in 2010 by Prashant\, an immigrant turned DJ\, & like-minded friends\, Jai Ho! is a celebration of Indian music & dance like no other. \n\n\n\n\n\n\n\n\n\n\n\n\n\n\n\n\n\n\n☾ GUIDELINES AT EVERY JAI HO!\nCreating a safe & celebratory space is our priority at every event we host. \nWe would love for you to be an accomplice of ours by greeting & treating everyone you meet like you would like to be treated\, with equality\, mutual respect\, and a big smile. We know this does not apply to you because you are awesome but for the other people to whom this may be relevant\, we have zero tolerance for bigotry\, racist remarks\, and generally reckless behavior. \nOver the course of the night\, Punjabi\, Bollywood\, South Indian songs\, and music from across South Asia (new & old) will make their way into our DJs playlist. So contribute positively\, uplift everyone around you\, tip your bartenders well\, and enjoy the music being played. \n  \n☾ PHOTOS & VIDEOS DURING THE EVENT\nBy purchasing tickets to our events\, you acknowledge that there might be photographers and videographers and that these photos and videos could be used for promotional purposes on our platforms. \n\n\n\n\n\n\n\n\n\n\n\n\n\n\n\n\n\n\n\n\n\n\n\n\n\n❤️ HOSTING A PRIVATE EVENT?\nWhen not hosting my own dance nights\, I love DJ’ing for weddings\, private and corporate events. Contact me through my website http://dreamsperfected.com if you want to work with me to throw a memorable shindig!
URL:https://dreamsperfected.com/event/bollywood-glow-party-denver/
LOCATION:The Dahlia\, 119 South Broadway Denver\, CO 80223\, Denver\, CO\, 80223\, United States
CATEGORIES:Dance Party,Denver - Jai Ho! Dance Party
END:VEVENT
END:VCALENDAR